BEGIN:VCALENDAR
VERSION:2.0
PRODID:UnionActive
URL:http://ibew245.com/?zone=/unionactive/calendar.cfm&usecalsection=main
NAME:www.ibew245.com main
X-WR-CALNAME:www.ibew245.com main
DESCRIPTION:www.ibew245.com main
X-WR-CALDESC:www.ibew245.com main
REFRESH-INTERVAL;VALUE=DURATION:PT12H
X-PUBLISHED-TTL:PT12H
CALSCALE:GREGORIAN
METHOD:PUBLISH
BEGIN:VEVENT
UID:13309977@ibew245.com
SUMMARY:ALBAT CLASS (BRIAN'S CLASS)
DESCRIPTION:Contact:  \nLink for more information: http://ibew245.com/index.cfm?zone=/unionactive/view_calendar.cfm&calendarID=13309977&thisdate=05/02/2026&useCalSection=main
LOCATION:
URL:http://ibew245.com/index.cfm?zone=/unionactive/view_calendar.cfm&calendarID=13309977&thisdate=05/02/2026&useCalSection=main
DTSTART:20260502T100000Z
DTEND:20260502T150000Z
DTSTAMP:20260422T091953
TRIGGER:-PT60M
END:VEVENT
BEGIN:VEVENT
UID:13309987@ibew245.com
SUMMARY:ALBAT CLASS (STEVE'S CLASS)
DESCRIPTION:Contact:  \nLink for more information: http://ibew245.com/index.cfm?zone=/unionactive/view_calendar.cfm&calendarID=13309987&thisdate=05/09/2026&useCalSection=main
LOCATION:
URL:http://ibew245.com/index.cfm?zone=/unionactive/view_calendar.cfm&calendarID=13309987&thisdate=05/09/2026&useCalSection=main
DTSTART:20260509T110000Z
DTEND:20260509T213000Z
DTSTAMP:20260422T091953
TRIGGER:-PT60M
END:VEVENT
BEGIN:VEVENT
UID:13427617@ibew245.com
SUMMARY:Executive Board Meeting
DESCRIPTION:Contact:  \nLink for more information: http://ibew245.com/index.cfm?zone=/unionactive/view_calendar.cfm&calendarID=13427617&thisdate=05/12/2026&useCalSection=main
LOCATION:Union Hall, 705 Lime City Rd., Rossford, Ohio 43460
URL:http://ibew245.com/index.cfm?zone=/unionactive/view_calendar.cfm&calendarID=13427617&thisdate=05/12/2026&useCalSection=main
DTSTART:20260512T210000Z
DTEND:20260512T230000Z
DTSTAMP:20260422T091953
TRIGGER:-PT60M
END:VEVENT
BEGIN:VEVENT
UID:12588602@ibew245.com
SUMMARY:Union Meeting
DESCRIPTION:Contact:  \nLink for more information: http://ibew245.com/index.cfm?zone=/unionactive/view_calendar.cfm&calendarID=12588602&thisdate=05/14/2026&useCalSection=main
LOCATION:Union Hall, 705 Lime City Rd., Rossford, OH 43460
URL:http://ibew245.com/index.cfm?zone=/unionactive/view_calendar.cfm&calendarID=12588602&thisdate=05/14/2026&useCalSection=main
DTSTART:20260514T233000Z
DTEND:20260515T013000Z
DTSTAMP:20260422T091953
TRIGGER:-PT60M
END:VEVENT
BEGIN:VEVENT
UID:13427634@ibew245.com
SUMMARY:OFFICE CLOSED - Memorial Day
DESCRIPTION:Contact:  \nLink for more information: http://ibew245.com/index.cfm?zone=/unionactive/view_calendar.cfm&calendarID=13427634&thisdate=05/25/2026&useCalSection=main
LOCATION:
URL:http://ibew245.com/index.cfm?zone=/unionactive/view_calendar.cfm&calendarID=13427634&thisdate=05/25/2026&useCalSection=main
DTSTART:20260525T120000Z
DTEND:20260525T130000Z
DTSTAMP:20260422T091953
TRIGGER:-PT60M
END:VEVENT
BEGIN:VEVENT
UID:13427618@ibew245.com
SUMMARY:Executive Board Meeting
DESCRIPTION:Contact:  \nLink for more information: http://ibew245.com/index.cfm?zone=/unionactive/view_calendar.cfm&calendarID=13427618&thisdate=06/09/2026&useCalSection=main
LOCATION:Union Hall, 705 Lime City Rd., Rossford, Ohio 43460
URL:http://ibew245.com/index.cfm?zone=/unionactive/view_calendar.cfm&calendarID=13427618&thisdate=06/09/2026&useCalSection=main
DTSTART:20260609T210000Z
DTEND:20260609T230000Z
DTSTAMP:20260422T091953
TRIGGER:-PT60M
END:VEVENT
BEGIN:VEVENT
UID:12588603@ibew245.com
SUMMARY:Union Meeting
DESCRIPTION:Contact:  \nLink for more information: http://ibew245.com/index.cfm?zone=/unionactive/view_calendar.cfm&calendarID=12588603&thisdate=06/11/2026&useCalSection=main
LOCATION:Union Hall, 705 Lime City Rd., Rossford, OH 43460
URL:http://ibew245.com/index.cfm?zone=/unionactive/view_calendar.cfm&calendarID=12588603&thisdate=06/11/2026&useCalSection=main
DTSTART:20260611T233000Z
DTEND:20260612T013000Z
DTSTAMP:20260422T091953
TRIGGER:-PT60M
END:VEVENT
BEGIN:VEVENT
UID:13309978@ibew245.com
SUMMARY:ALBAT CLASS (BRIAN'S CLASS)
DESCRIPTION:Contact:  \nLink for more information: http://ibew245.com/index.cfm?zone=/unionactive/view_calendar.cfm&calendarID=13309978&thisdate=06/13/2026&useCalSection=main
LOCATION:
URL:http://ibew245.com/index.cfm?zone=/unionactive/view_calendar.cfm&calendarID=13309978&thisdate=06/13/2026&useCalSection=main
DTSTART:20260613T100000Z
DTEND:20260613T150000Z
DTSTAMP:20260422T091953
TRIGGER:-PT60M
END:VEVENT
BEGIN:VEVENT
UID:13427635@ibew245.com
SUMMARY:OFFICE CLOSED - Juneteenth
DESCRIPTION:Contact:  \nLink for more information: http://ibew245.com/index.cfm?zone=/unionactive/view_calendar.cfm&calendarID=13427635&thisdate=06/19/2026&useCalSection=main
LOCATION:
URL:http://ibew245.com/index.cfm?zone=/unionactive/view_calendar.cfm&calendarID=13427635&thisdate=06/19/2026&useCalSection=main
DTSTART:20260619T120000Z
DTEND:20260619T130000Z
DTSTAMP:20260422T091953
TRIGGER:-PT60M
END:VEVENT
BEGIN:VEVENT
UID:13309988@ibew245.com
SUMMARY:ALBAT CLASS (STEVE'S CLASS)
DESCRIPTION:Contact:  \nLink for more information: http://ibew245.com/index.cfm?zone=/unionactive/view_calendar.cfm&calendarID=13309988&thisdate=06/20/2026&useCalSection=main
LOCATION:
URL:http://ibew245.com/index.cfm?zone=/unionactive/view_calendar.cfm&calendarID=13309988&thisdate=06/20/2026&useCalSection=main
DTSTART:20260620T110000Z
DTEND:20260620T213000Z
DTSTAMP:20260422T091953
TRIGGER:-PT60M
END:VEVENT
BEGIN:VEVENT
UID:13427636@ibew245.com
SUMMARY:OFFICE CLOSED - In Observance of Independence Day
DESCRIPTION:Contact:  \nLink for more information: http://ibew245.com/index.cfm?zone=/unionactive/view_calendar.cfm&calendarID=13427636&thisdate=07/03/2026&useCalSection=main
LOCATION:
URL:http://ibew245.com/index.cfm?zone=/unionactive/view_calendar.cfm&calendarID=13427636&thisdate=07/03/2026&useCalSection=main
DTSTART:20260703T120000Z
DTEND:20260703T130000Z
DTSTAMP:20260422T091953
TRIGGER:-PT60M
END:VEVENT
BEGIN:VEVENT
UID:13427619@ibew245.com
SUMMARY:Executive Board Meeting
DESCRIPTION:Contact:  \nLink for more information: http://ibew245.com/index.cfm?zone=/unionactive/view_calendar.cfm&calendarID=13427619&thisdate=07/07/2026&useCalSection=main
LOCATION:Union Hall, 705 Lime City Rd., Rossford, Ohio 43460
URL:http://ibew245.com/index.cfm?zone=/unionactive/view_calendar.cfm&calendarID=13427619&thisdate=07/07/2026&useCalSection=main
DTSTART:20260707T210000Z
DTEND:20260707T230000Z
DTSTAMP:20260422T091953
TRIGGER:-PT60M
END:VEVENT
BEGIN:VEVENT
UID:12588604@ibew245.com
SUMMARY:Union Meeting
DESCRIPTION:Contact:  \nLink for more information: http://ibew245.com/index.cfm?zone=/unionactive/view_calendar.cfm&calendarID=12588604&thisdate=07/09/2026&useCalSection=main
LOCATION:Union Hall, 705 Lime City Rd., Rossford, OH 43460
URL:http://ibew245.com/index.cfm?zone=/unionactive/view_calendar.cfm&calendarID=12588604&thisdate=07/09/2026&useCalSection=main
DTSTART:20260709T233000Z
DTEND:20260710T013000Z
DTSTAMP:20260422T091953
TRIGGER:-PT60M
END:VEVENT
BEGIN:VEVENT
UID:13427620@ibew245.com
SUMMARY:Executive Board Meeting
DESCRIPTION:Contact:  \nLink for more information: http://ibew245.com/index.cfm?zone=/unionactive/view_calendar.cfm&calendarID=13427620&thisdate=08/11/2026&useCalSection=main
LOCATION:Union Hall, 705 Lime City Rd., Rossford, Ohio 43460
URL:http://ibew245.com/index.cfm?zone=/unionactive/view_calendar.cfm&calendarID=13427620&thisdate=08/11/2026&useCalSection=main
DTSTART:20260811T210000Z
DTEND:20260811T230000Z
DTSTAMP:20260422T091953
TRIGGER:-PT60M
END:VEVENT
BEGIN:VEVENT
UID:12588605@ibew245.com
SUMMARY:Union Meeting
DESCRIPTION:Contact:  \nLink for more information: http://ibew245.com/index.cfm?zone=/unionactive/view_calendar.cfm&calendarID=12588605&thisdate=08/13/2026&useCalSection=main
LOCATION:Union Hall, 705 Lime City Rd., Rossford, OH 43460
URL:http://ibew245.com/index.cfm?zone=/unionactive/view_calendar.cfm&calendarID=12588605&thisdate=08/13/2026&useCalSection=main
DTSTART:20260813T233000Z
DTEND:20260814T013000Z
DTSTAMP:20260422T091953
TRIGGER:-PT60M
END:VEVENT
BEGIN:VEVENT
UID:13427637@ibew245.com
SUMMARY:OFFICE CLOSED - Labor Day
DESCRIPTION:Contact:  \nLink for more information: http://ibew245.com/index.cfm?zone=/unionactive/view_calendar.cfm&calendarID=13427637&thisdate=09/07/2026&useCalSection=main
LOCATION:
URL:http://ibew245.com/index.cfm?zone=/unionactive/view_calendar.cfm&calendarID=13427637&thisdate=09/07/2026&useCalSection=main
DTSTART:20260907T120000Z
DTEND:20260907T130000Z
DTSTAMP:20260422T091953
TRIGGER:-PT60M
END:VEVENT
BEGIN:VEVENT
UID:13427621@ibew245.com
SUMMARY:Executive Board Meeting
DESCRIPTION:Contact:  \nLink for more information: http://ibew245.com/index.cfm?zone=/unionactive/view_calendar.cfm&calendarID=13427621&thisdate=09/08/2026&useCalSection=main
LOCATION:Union Hall, 705 Lime City Rd., Rossford, Ohio 43460
URL:http://ibew245.com/index.cfm?zone=/unionactive/view_calendar.cfm&calendarID=13427621&thisdate=09/08/2026&useCalSection=main
DTSTART:20260908T210000Z
DTEND:20260908T230000Z
DTSTAMP:20260422T091953
TRIGGER:-PT60M
END:VEVENT
BEGIN:VEVENT
UID:13427625@ibew245.com
SUMMARY:Union Meeting
DESCRIPTION:Contact:  \nLink for more information: http://ibew245.com/index.cfm?zone=/unionactive/view_calendar.cfm&calendarID=13427625&thisdate=09/10/2026&useCalSection=main
LOCATION:Union Hall, 705 Lime City Rd., Rossford, Ohio 43460
URL:http://ibew245.com/index.cfm?zone=/unionactive/view_calendar.cfm&calendarID=13427625&thisdate=09/10/2026&useCalSection=main
DTSTART:20260910T233000Z
DTEND:20260911T013000Z
DTSTAMP:20260422T091953
TRIGGER:-PT60M
END:VEVENT
BEGIN:VEVENT
UID:13427622@ibew245.com
SUMMARY:Executive Board Meeting
DESCRIPTION:Contact:  \nLink for more information: http://ibew245.com/index.cfm?zone=/unionactive/view_calendar.cfm&calendarID=13427622&thisdate=10/06/2026&useCalSection=main
LOCATION:Union Hall, 705 Lime City Rd., Rossford, Ohio 43460
URL:http://ibew245.com/index.cfm?zone=/unionactive/view_calendar.cfm&calendarID=13427622&thisdate=10/06/2026&useCalSection=main
DTSTART:20261006T210000Z
DTEND:20261006T230000Z
DTSTAMP:20260422T091953
TRIGGER:-PT60M
END:VEVENT
BEGIN:VEVENT
UID:13427626@ibew245.com
SUMMARY:Union Meeting
DESCRIPTION:Contact:  \nLink for more information: http://ibew245.com/index.cfm?zone=/unionactive/view_calendar.cfm&calendarID=13427626&thisdate=10/08/2026&useCalSection=main
LOCATION:Union Hall, 705 Lime City Rd., Rossford, Ohio 43460
URL:http://ibew245.com/index.cfm?zone=/unionactive/view_calendar.cfm&calendarID=13427626&thisdate=10/08/2026&useCalSection=main
DTSTART:20261008T233000Z
DTEND:20261009T013000Z
DTSTAMP:20260422T091953
TRIGGER:-PT60M
END:VEVENT
BEGIN:VEVENT
UID:13427623@ibew245.com
SUMMARY:Executive Board Meeting
DESCRIPTION:Contact:  \nLink for more information: http://ibew245.com/index.cfm?zone=/unionactive/view_calendar.cfm&calendarID=13427623&thisdate=11/10/2026&useCalSection=main
LOCATION:Union Hall, 705 Lime City Rd., Rossford, Ohio 43460
URL:http://ibew245.com/index.cfm?zone=/unionactive/view_calendar.cfm&calendarID=13427623&thisdate=11/10/2026&useCalSection=main
DTSTART:20261110T220000Z
DTEND:20261111T000000Z
DTSTAMP:20260422T091953
TRIGGER:-PT60M
END:VEVENT
BEGIN:VEVENT
UID:13427638@ibew245.com
SUMMARY:OFFICE CLOSED - Veteran's Day
DESCRIPTION:Contact:  \nLink for more information: http://ibew245.com/index.cfm?zone=/unionactive/view_calendar.cfm&calendarID=13427638&thisdate=11/11/2026&useCalSection=main
LOCATION:
URL:http://ibew245.com/index.cfm?zone=/unionactive/view_calendar.cfm&calendarID=13427638&thisdate=11/11/2026&useCalSection=main
DTSTART:20261111T130000Z
DTEND:20261111T140000Z
DTSTAMP:20260422T091953
TRIGGER:-PT60M
END:VEVENT
BEGIN:VEVENT
UID:13427627@ibew245.com
SUMMARY:Union Meeting
DESCRIPTION:Contact:  \nLink for more information: http://ibew245.com/index.cfm?zone=/unionactive/view_calendar.cfm&calendarID=13427627&thisdate=11/12/2026&useCalSection=main
LOCATION:Union Hall, 705 Lime City Rd., Rossford, Ohio 43460
URL:http://ibew245.com/index.cfm?zone=/unionactive/view_calendar.cfm&calendarID=13427627&thisdate=11/12/2026&useCalSection=main
DTSTART:20261113T003000Z
DTEND:20261113T023000Z
DTSTAMP:20260422T091953
TRIGGER:-PT60M
END:VEVENT
BEGIN:VEVENT
UID:13427639@ibew245.com
SUMMARY:OFFICE CLOSED - Thanksgiving
DESCRIPTION:Contact:  \nLink for more information: http://ibew245.com/index.cfm?zone=/unionactive/view_calendar.cfm&calendarID=13427639&thisdate=11/26/2026&useCalSection=main
LOCATION:
URL:http://ibew245.com/index.cfm?zone=/unionactive/view_calendar.cfm&calendarID=13427639&thisdate=11/26/2026&useCalSection=main
DTSTART:20261126T130000Z
DTEND:20261126T140000Z
DTSTAMP:20260422T091953
TRIGGER:-PT60M
END:VEVENT
BEGIN:VEVENT
UID:13427640@ibew245.com
SUMMARY:OFFICE CLOSED - Thanksgiving
DESCRIPTION:Contact:  \nLink for more information: http://ibew245.com/index.cfm?zone=/unionactive/view_calendar.cfm&calendarID=13427640&thisdate=11/27/2026&useCalSection=main
LOCATION:
URL:http://ibew245.com/index.cfm?zone=/unionactive/view_calendar.cfm&calendarID=13427640&thisdate=11/27/2026&useCalSection=main
DTSTART:20261127T130000Z
DTEND:20261127T140000Z
DTSTAMP:20260422T091953
TRIGGER:-PT60M
END:VEVENT
BEGIN:VEVENT
UID:13427624@ibew245.com
SUMMARY:Executive Board Meeting
DESCRIPTION:Contact:  \nLink for more information: http://ibew245.com/index.cfm?zone=/unionactive/view_calendar.cfm&calendarID=13427624&thisdate=12/08/2026&useCalSection=main
LOCATION:Union Hall, 705 Lime City Rd., Rossford, Ohio 43460
URL:http://ibew245.com/index.cfm?zone=/unionactive/view_calendar.cfm&calendarID=13427624&thisdate=12/08/2026&useCalSection=main
DTSTART:20261208T220000Z
DTEND:20261209T000000Z
DTSTAMP:20260422T091953
TRIGGER:-PT60M
END:VEVENT
BEGIN:VEVENT
UID:13427628@ibew245.com
SUMMARY:Union Meeting
DESCRIPTION:Contact:  \nLink for more information: http://ibew245.com/index.cfm?zone=/unionactive/view_calendar.cfm&calendarID=13427628&thisdate=12/10/2026&useCalSection=main
LOCATION:Union Hall, 705 Lime City Rd., Rossford, Ohio 43460
URL:http://ibew245.com/index.cfm?zone=/unionactive/view_calendar.cfm&calendarID=13427628&thisdate=12/10/2026&useCalSection=main
DTSTART:20261211T003000Z
DTEND:20261211T023000Z
DTSTAMP:20260422T091953
TRIGGER:-PT60M
END:VEVENT
BEGIN:VEVENT
UID:13427641@ibew245.com
SUMMARY:OFFICE CLOSED - Christmas Eve
DESCRIPTION:Contact:  \nLink for more information: http://ibew245.com/index.cfm?zone=/unionactive/view_calendar.cfm&calendarID=13427641&thisdate=12/24/2026&useCalSection=main
LOCATION:
URL:http://ibew245.com/index.cfm?zone=/unionactive/view_calendar.cfm&calendarID=13427641&thisdate=12/24/2026&useCalSection=main
DTSTART:20261224T130000Z
DTEND:20261224T140000Z
DTSTAMP:20260422T091953
TRIGGER:-PT60M
END:VEVENT
BEGIN:VEVENT
UID:13427642@ibew245.com
SUMMARY:OFFICE CLOSED - Christmas 
DESCRIPTION:Contact:  \nLink for more information: http://ibew245.com/index.cfm?zone=/unionactive/view_calendar.cfm&calendarID=13427642&thisdate=12/25/2026&useCalSection=main
LOCATION:
URL:http://ibew245.com/index.cfm?zone=/unionactive/view_calendar.cfm&calendarID=13427642&thisdate=12/25/2026&useCalSection=main
DTSTART:20261225T130000Z
DTEND:20261225T140000Z
DTSTAMP:20260422T091953
TRIGGER:-PT60M
END:VEVENT
BEGIN:VEVENT
UID:13427644@ibew245.com
SUMMARY:OFFICE CLOSED - New Year's Eve
DESCRIPTION:Contact:  \nLink for more information: http://ibew245.com/index.cfm?zone=/unionactive/view_calendar.cfm&calendarID=13427644&thisdate=12/31/2026&useCalSection=main
LOCATION:
URL:http://ibew245.com/index.cfm?zone=/unionactive/view_calendar.cfm&calendarID=13427644&thisdate=12/31/2026&useCalSection=main
DTSTART:20261231T130000Z
DTEND:20261231T140000Z
DTSTAMP:20260422T091953
TRIGGER:-PT60M
END:VEVENT
END:VCALENDAR
